BEGIN:VCALENDAR
PRODID:-//eluceo/ical//2.0/EN
VERSION:2.0
CALSCALE:GREGORIAN
BEGIN:VEVENT
UID:22a7193528c01129ab9a3eebd99b86c1
DTSTAMP:20260423T182050Z
SUMMARY:Vijftien jaar Spoorzone
DESCRIPTION:Vijftien jaar geleden werd de basis gelegd voor de Spoorzone Ti
 lburg. Op dinsdag 19 mei markeren gemeente Tilburg en gebiedsontwikkelaar 
 SDK Vastgoed deze mijlpaal. Niet alleen om terug te kijken\, maar ook juis
 t om vooruit te zien: Hoe ontwikkelen we verder? Waar liggen nieuwe kansen
 ? En wat vraagt dat van de manier van samenwerken?\n\nhttps://www.castonli
 ne.nl/agenda/vijftien-jaar-spoorzone
URL:https://www.castonline.nl/agenda/vijftien-jaar-spoorzone
DTSTART:20260519T120000
DTEND:20260519T183000
LOCATION:Spoorzone
END:VEVENT
END:VCALENDAR
