BEGIN:VCALENDAR
PRODID:-//eluceo/ical//2.0/EN
VERSION:2.0
CALSCALE:GREGORIAN
BEGIN:VEVENT
UID:0380baa103c884a9de1d15c0017d91eb
DTSTAMP:20260421T124804Z
SUMMARY:OPEN CALL Ontwerpatelier Leisure Landschap Vestigingsklimaat
DESCRIPTION:Hoe kunnen leisure en landschap bijdragen aan een regio die als
  plek om te wonen\, werken en recreëren aantrekkelijk én toekomstbestend
 ig blijft?\n\nhttps://www.castonline.nl/agenda/ontwerpatelier-leisure-land
 schap-vestigingsklimaat
URL:https://www.castonline.nl/agenda/ontwerpatelier-leisure-landschap-vesti
 gingsklimaat
DTSTART:20260421T000000
DTEND:20260531T235900
END:VEVENT
END:VCALENDAR
