BEGIN:VCALENDAR
PRODID:-//eluceo/ical//2.0/EN
VERSION:2.0
CALSCALE:GREGORIAN
BEGIN:VEVENT
UID:a66b041a6aeef94f2f6b18f372f3743a
DTSTAMP:20260423T081529Z
SUMMARY:Ontwerpatelier Leisure Landschap Vestigingsklimaat
DESCRIPTION:Op 6\, 7 en 8 juli organiseren we\, samen met KunstUnlocked#5 (
 Kunstloc Brabant) een ontwerpatelier\, waarin we ontwerpend onderzoek inze
 tten om te werken aan opgaven binnen de SRBT. De OPEN CALL staat nu open\,
  lees hier meer:ennbsp\;[https://www.castonline.nl/verd...](https://www.ca
 stonline.nl/verdieping/open-call-nieuwe-verbindingen-x-kunstunlocked-5)\n\
 nhttps://www.castonline.nl/agenda/open-call-nieuwe-verbindingen-x-kunstunl
 ocked
URL:https://www.castonline.nl/agenda/open-call-nieuwe-verbindingen-x-kunstu
 nlocked
DTSTART:20260706T090000
DTEND:20260708T200000
LOCATION:LocHal\, Tilburg
END:VEVENT
END:VCALENDAR
